BEGIN:VCALENDAR
VERSION:2.0
PRODID:SchoolNow
CALSCALE:GREGORIAN
BEGIN:VEVENT
UID:a04f0188-7449-11ef-bd1d-0affdb41b1b1
DTSTAMP:20250326T210607Z
SUMMARY:CCC Regional Track Invitation
LOCATION:Veterans Memorial Stadium
URL;VALUE=URI:https://www.coffeyville.edu/calendar/6616979/ccc-regional-tra
 ck-invitation
DTSTART;VALUE=DATE:20250501
DTEND;VALUE=DATE:20250504
END:VEVENT
END:VCALENDAR
