BEGIN:VCALENDAR
VERSION:2.0
PRODID:SchoolNow
CALSCALE:GREGORIAN
BEGIN:VEVENT
UID:317cb2ba-d1f4-11ef-b079-0eeb9ce32c25
DTSTAMP:20250114T200058Z
SUMMARY:Winter Hall Of Fame Dinner
LOCATION:Windsor Place Event Center
URL;VALUE=URI:https://www.coffeyville.edu/calendar/7309728/winter-spring-sp
 orts-hall-of-fame-dinner
DTSTART:20250208T000000Z
DTEND:20250208T010000Z
END:VEVENT
END:VCALENDAR
