BEGIN:VCALENDAR
VERSION:2.0
PRODID:SchoolNow
CALSCALE:GREGORIAN
BEGIN:VEVENT
UID:2cd3f7b2-d354-11ef-a5c6-0a58a9feac02
DTSTAMP:20250206T151448Z
SUMMARY:2025 Spring Blood Drive
LOCATION:Nellis Hall of Champions
URL;VALUE=URI:https://www.coffeyville.edu/calendar/7319744/2025-spring-bloo
 d-drive
DTSTART:20250206T153000Z
DTEND:20250206T213000Z
END:VEVENT
END:VCALENDAR
