BEGIN:VCALENDAR
VERSION:2.0
PRODID:SchoolNow
CALSCALE:GREGORIAN
BEGIN:VEVENT
UID:9d4210ce-d41c-11ef-8ea1-0a58a9feac02
DTSTAMP:20250116T151443Z
SUMMARY:CCC Musical Performance - I'm Getting My Act Together and Taking It
  on the Road
LOCATION:Spencer / Rounds Theatre
URL;VALUE=URI:https://www.coffeyville.edu/calendar/7324716/ccc-musical-perf
 ormance-im-getting-my-act-together-and-taking-it-on-the-road
DTSTART:20250426T000000Z
DTEND:20250426T010000Z
END:VEVENT
END:VCALENDAR
