BEGIN:VCALENDAR
VERSION:2.0
PRODID:SchoolNow
CALSCALE:GREGORIAN
BEGIN:VEVENT
UID:d14df176-d41c-11ef-b3ee-0a58a9feac02
DTSTAMP:20250116T151610Z
SUMMARY:CCC Musical Auditions - I'm Getting My Act Together and Taking It o
 n the Road
LOCATION:Spencer / Rounds Theatre
URL;VALUE=URI:https://www.coffeyville.edu/calendar/7324718/ccc-musical-audi
 tions-im-getting-my-act-together-and-taking-it-on-the-road
DTSTART:20250204T223000Z
DTEND:20250204T233000Z
END:VEVENT
END:VCALENDAR
