BEGIN:VCALENDAR
VERSION:2.0
PRODID:SchoolNow
CALSCALE:GREGORIAN
BEGIN:VEVENT
UID:e1cff292-d41c-11ef-8da1-0a58a9feac02
DTSTAMP:20250116T151638Z
SUMMARY:CCC Musical Auditions - I'm Getting My Act Together and Taking It o
 n the Road
LOCATION:Spencer / Rounds Theatre
URL;VALUE=URI:https://www.coffeyville.edu/calendar/7324719/ccc-musical-audi
 tions-im-getting-my-act-together-and-taking-it-on-the-road
DTSTART:20250205T013000Z
DTEND:20250205T023000Z
END:VEVENT
END:VCALENDAR
