BEGIN:VCALENDAR
VERSION:2.0
PRODID:SchoolNow
CALSCALE:GREGORIAN
BEGIN:VEVENT
UID:5fedfd8a-de55-11ef-8948-0a58a9feac02
DTSTAMP:20250429T152741Z
SUMMARY:PTK End of Semester Celebration
LOCATION:Spencer / Rounds Theatre
URL;VALUE=URI:https://www.coffeyville.edu/calendar/7393573/ptk-end-of-semes
 ter-celebration
DTSTART:20250510T000000Z
DTEND:20250510T010000Z
END:VEVENT
END:VCALENDAR
