BEGIN:VCALENDAR
VERSION:2.0
PRODID:SchoolNow
CALSCALE:GREGORIAN
BEGIN:VEVENT
UID:b5f9942c-e248-11ef-8557-0a58a9feac02
DTSTAMP:20250203T160539Z
SUMMARY:2025 Drum Fest
LOCATION:Nellis Hall/Spencer Round Theatre
URL;VALUE=URI:https://www.coffeyville.edu/calendar/7416025/2025-drum-fest
DTSTART:20250503T130000Z
DTEND:20250503T190000Z
END:VEVENT
END:VCALENDAR
