BEGIN:VCALENDAR
VERSION:2.0
PRODID:SchoolNow
CALSCALE:GREGORIAN
BEGIN:VEVENT
UID:261fedb4-0be3-11f0-9f34-0affc4b95ae7
DTSTAMP:20250328T144427Z
SUMMARY:Welcome Back Weekend
URL;VALUE=URI:https://www.coffeyville.edu/calendar/7793728/welcome-back-wee
 kend
DTSTART;VALUE=DATE:20250816
DTEND;VALUE=DATE:20250817
END:VEVENT
END:VCALENDAR
