BEGIN:VCALENDAR
VERSION:2.0
PRODID:SchoolNow
CALSCALE:GREGORIAN
BEGIN:VEVENT
UID:b2562ce4-0be3-11f0-ac58-0a58a9feac02
DTSTAMP:20250328T144822Z
SUMMARY:Campus Closed - Labor Day
URL;VALUE=URI:https://www.coffeyville.edu/calendar/7793731/campus-closed-la
 bor-day
DTSTART;VALUE=DATE:20250901
DTEND;VALUE=DATE:20250902
END:VEVENT
END:VCALENDAR
