BEGIN:VCALENDAR
VERSION:2.0
PRODID:SchoolNow
CALSCALE:GREGORIAN
BEGIN:VEVENT
UID:d464a8d8-0be3-11f0-85bb-0a58a9feac02
DTSTAMP:20250328T144919Z
SUMMARY:Campus Closed
URL;VALUE=URI:https://www.coffeyville.edu/calendar/7793733/campus-closed
DTSTART;VALUE=DATE:20250811
DTEND;VALUE=DATE:20250812
END:VEVENT
END:VCALENDAR
