BEGIN:VCALENDAR
VERSION:2.0
PRODID:SchoolNow
CALSCALE:GREGORIAN
BEGIN:VEVENT
UID:e1792bf2-0be3-11f0-a622-0affc4b95ae7
DTSTAMP:20250603T155828Z
SUMMARY:Campus Closed - All Fridays In July
URL;VALUE=URI:https://www.coffeyville.edu/calendar/7793734/campus-closed-al
 l-fridays-in-july
DTSTART;VALUE=DATE:20250704
DTEND;VALUE=DATE:20250705
END:VEVENT
END:VCALENDAR
