BEGIN:VCALENDAR
VERSION:2.0
PRODID:SchoolNow
CALSCALE:GREGORIAN
BEGIN:VEVENT
UID:e9a97eda-0be3-11f0-acdb-0a58a9feac02
DTSTAMP:20250328T145752Z
SUMMARY:Campus Closed - All Fridays In July
URL;VALUE=URI:https://www.coffeyville.edu/calendar/7793735/campus-closed-4t
 h-of-july-clone
DTSTART;VALUE=DATE:20250711
DTEND;VALUE=DATE:20250712
END:VEVENT
END:VCALENDAR
