BEGIN:VCALENDAR
VERSION:2.0
PRODID:SchoolNow
CALSCALE:GREGORIAN
BEGIN:VEVENT
UID:efa13166-0be3-11f0-96c0-0a58a9feac02
DTSTAMP:20250328T145804Z
SUMMARY:Campus Closed - All Fridays In July
URL;VALUE=URI:https://www.coffeyville.edu/calendar/7793736/campus-closed-4t
 h-of-july-clone
DTSTART;VALUE=DATE:20250718
DTEND;VALUE=DATE:20250719
END:VEVENT
END:VCALENDAR
