BEGIN:VCALENDAR
VERSION:2.0
PRODID:SchoolNow
CALSCALE:GREGORIAN
BEGIN:VEVENT
UID:f4c2c7b8-0be3-11f0-8d78-0a58a9feac02
DTSTAMP:20250328T145812Z
SUMMARY:Campus Closed - All Fridays In July
URL;VALUE=URI:https://www.coffeyville.edu/calendar/7793812/campus-closed-4t
 h-of-july-clone
DTSTART;VALUE=DATE:20250725
DTEND;VALUE=DATE:20250726
END:VEVENT
END:VCALENDAR
