BEGIN:VCALENDAR
VERSION:2.0
PRODID:SchoolNow
CALSCALE:GREGORIAN
BEGIN:VEVENT
UID:21f9b2b8-0be5-11f0-9d99-0a58a9feac02
DTSTAMP:20250328T145839Z
SUMMARY:Campus Closed - 4th of July
URL;VALUE=URI:https://www.coffeyville.edu/calendar/7793830/campus-closed-4t
 h-of-july
DTSTART;VALUE=DATE:20250704
DTEND;VALUE=DATE:20250705
END:VEVENT
END:VCALENDAR
