BEGIN:VCALENDAR
VERSION:2.0
PRODID:SchoolNow
CALSCALE:GREGORIAN
BEGIN:VEVENT
UID:73556242-0be5-11f0-88ee-0a58a9feac02
DTSTAMP:20250328T150055Z
SUMMARY:Campus Closed - All Fridays In June
URL;VALUE=URI:https://www.coffeyville.edu/calendar/7793834/campus-closed-al
 l-fridays-in-june-clone
DTSTART;VALUE=DATE:20250606
DTEND;VALUE=DATE:20250607
END:VEVENT
END:VCALENDAR
