BEGIN:VCALENDAR
VERSION:2.0
PRODID:SchoolNow
CALSCALE:GREGORIAN
BEGIN:VEVENT
UID:82b94fdc-0be5-11f0-b943-0afffefd7753
DTSTAMP:20250328T150121Z
SUMMARY:Campus Closed - All Fridays In June
URL;VALUE=URI:https://www.coffeyville.edu/calendar/7793835/campus-closed-al
 l-fridays-in-june-clone-clone
DTSTART;VALUE=DATE:20250613
DTEND;VALUE=DATE:20250614
END:VEVENT
END:VCALENDAR
