BEGIN:VCALENDAR
VERSION:2.0
PRODID:SchoolNow
CALSCALE:GREGORIAN
BEGIN:VEVENT
UID:8cbe848e-0be5-11f0-8e12-0ee4be2bf35d
DTSTAMP:20250328T150138Z
SUMMARY:Campus Closed - All Fridays In June
URL;VALUE=URI:https://www.coffeyville.edu/calendar/7793836/campus-closed-al
 l-fridays-in-june-clone-clone-clone
DTSTART;VALUE=DATE:20250620
DTEND;VALUE=DATE:20250621
END:VEVENT
END:VCALENDAR
