BEGIN:VCALENDAR
VERSION:2.0
PRODID:SchoolNow
CALSCALE:GREGORIAN
BEGIN:VEVENT
UID:91fbe8c4-0be5-11f0-993e-0211e26f663f
DTSTAMP:20250328T150147Z
SUMMARY:Campus Closed - All Fridays In June
URL;VALUE=URI:https://www.coffeyville.edu/calendar/7793837/campus-closed-al
 l-fridays-in-june-clone-clone-clone
DTSTART;VALUE=DATE:20250627
DTEND;VALUE=DATE:20250628
END:VEVENT
END:VCALENDAR
