BEGIN:VCALENDAR
VERSION:2.0
PRODID:SchoolNow
CALSCALE:GREGORIAN
BEGIN:VEVENT
UID:b2c6c010-0f14-11f0-9f0d-0a58a9feac02
DTSTAMP:20250402T204628Z
SUMMARY:Nursing Pinning Ceremony
LOCATION:Nellis West
URL;VALUE=URI:https://www.coffeyville.edu/calendar/7824650/nursing-pinning-
 ceramony
DTSTART:20250510T190000Z
DTEND:20250510T200000Z
END:VEVENT
END:VCALENDAR
