BEGIN:VCALENDAR
VERSION:2.0
PRODID:SchoolNow
CALSCALE:GREGORIAN
BEGIN:VEVENT
UID:f8457e62-1098-11f0-90eb-025cb9091707
DTSTAMP:20250425T152906Z
SUMMARY:Enrollment Days - Why Not Wednesday
URL;VALUE=URI:https://www.coffeyville.edu/calendar/7841436/registration-day
 -why-not-wednesday
DTSTART:20250430T140000Z
DTEND:20250430T190000Z
END:VEVENT
END:VCALENDAR
