BEGIN:VCALENDAR
VERSION:2.0
PRODID:SchoolNow
CALSCALE:GREGORIAN
BEGIN:VEVENT
UID:06b6237a-1099-11f0-82ed-0a58a9feac02
DTSTAMP:20250425T152920Z
SUMMARY:Enrollment Days - Why Not Wednesday
URL;VALUE=URI:https://www.coffeyville.edu/calendar/7841437/registration-day
 -why-not-wednesday-clone
DTSTART:20250514T200000Z
DTEND:20250514T230000Z
END:VEVENT
END:VCALENDAR
