BEGIN:VCALENDAR
VERSION:2.0
PRODID:SchoolNow
CALSCALE:GREGORIAN
BEGIN:VEVENT
UID:147e1774-1099-11f0-b2ea-025cb9091707
DTSTAMP:20250425T152930Z
SUMMARY:Enrollment Days - Why Not Wednesday
URL;VALUE=URI:https://www.coffeyville.edu/calendar/7841438/registration-day
 -why-not-wednesday-clone
DTSTART:20250528T140000Z
DTEND:20250528T190000Z
END:VEVENT
END:VCALENDAR
