BEGIN:VCALENDAR
VERSION:2.0
PRODID:SchoolNow
CALSCALE:GREGORIAN
BEGIN:VEVENT
UID:1be57264-1099-11f0-a8c8-0a58a9feac02
DTSTAMP:20250425T152939Z
SUMMARY:Enrollment Days - Why Not Wednesday
URL;VALUE=URI:https://www.coffeyville.edu/calendar/7841439/registration-day
 -why-not-wednesday-clone-clone
DTSTART:20250611T140000Z
DTEND:20250611T190000Z
END:VEVENT
END:VCALENDAR
