BEGIN:VCALENDAR
VERSION:2.0
PRODID:SchoolNow
CALSCALE:GREGORIAN
BEGIN:VEVENT
UID:04532d94-10ad-11f0-a7f6-0affc1c2bc9d
DTSTAMP:20250403T165933Z
SUMMARY:Children's Summer Theatre Information Meeting
LOCATION:Spencer Rounds
URL;VALUE=URI:https://www.coffeyville.edu/calendar/7841543/childrens-summer
 -theatre-information-meeting
DTSTART:20250428T223000Z
DTEND:20250428T233000Z
END:VEVENT
END:VCALENDAR
