BEGIN:VCALENDAR
VERSION:2.0
PRODID:SchoolNow
CALSCALE:GREGORIAN
BEGIN:VEVENT
UID:2be3e7c2-10ad-11f0-abf8-0ee360fea60f
DTSTAMP:20250522T185045Z
SUMMARY:Children's Summer Theatre - Cancelled
LOCATION:Spencer Rounds
URL;VALUE=URI:https://www.coffeyville.edu/calendar/7841545/childrens-summer
 -theatre-information-meeting-clone
DTSTART:20250529T180000Z
DTEND:20250529T220000Z
END:VEVENT
END:VCALENDAR
