BEGIN:VCALENDAR
VERSION:2.0
PRODID:SchoolNow
CALSCALE:GREGORIAN
BEGIN:VEVENT
UID:dd4de134-1af8-11f0-8d65-0a58a9feac02
DTSTAMP:20250416T192741Z
SUMMARY:The Conner Taylor Suicided Prevention and Awareness Baseball Game
LOCATION:Walter Johnson Field
URL;VALUE=URI:https://www.coffeyville.edu/calendar/7940465/the-conner-taylo
 r-suicided-prevention-and-awareness-baseball-game
DTSTART:20250426T180000Z
DTEND:20250426T190000Z
END:VEVENT
END:VCALENDAR
