BEGIN:VCALENDAR
VERSION:2.0
PRODID:SchoolNow
CALSCALE:GREGORIAN
BEGIN:VEVENT
UID:e688b18e-1af8-11f0-a8c3-0a58a9feac02
DTSTAMP:20250416T192757Z
SUMMARY:The Conner Taylor Suicided Prevention and Awareness Baseball Game
LOCATION:Walter Johnson Field
URL;VALUE=URI:https://www.coffeyville.edu/calendar/7940466/the-conner-taylo
 r-suicided-prevention-and-awareness-baseball-game-clone
DTSTART:20250426T210000Z
DTEND:20250426T220000Z
END:VEVENT
END:VCALENDAR
