BEGIN:VCALENDAR
VERSION:2.0
PRODID:SchoolNow
CALSCALE:GREGORIAN
BEGIN:VEVENT
UID:438c0b38-1afe-11f0-a520-0a58a9feac02
DTSTAMP:20250425T153133Z
SUMMARY:Campus Closed
URL;VALUE=URI:https://www.coffeyville.edu/calendar/7940472/no-school
DTSTART;VALUE=DATE:20250707
DTEND;VALUE=DATE:20250708
END:VEVENT
END:VCALENDAR
