BEGIN:VCALENDAR
VERSION:2.0
PRODID:SchoolNow
CALSCALE:GREGORIAN
BEGIN:VEVENT
UID:aacf7aa2-21f5-11f0-aba9-0a58a9feac02
DTSTAMP:20250425T165226Z
SUMMARY:Last day to add Face-to-Face Courses with instructor permission
URL;VALUE=URI:https://www.coffeyville.edu/calendar/8006533/last-day-to-add-
 face-to-face-courses-with-instructor-permission
DTSTART;VALUE=DATE:20250605
DTEND;VALUE=DATE:20250606
END:VEVENT
END:VCALENDAR
