BEGIN:VCALENDAR
VERSION:2.0
PRODID:SchoolNow
CALSCALE:GREGORIAN
BEGIN:VEVENT
UID:d0723d6c-21f5-11f0-97c8-0a58a9feac02
DTSTAMP:20250425T165329Z
SUMMARY:Final exams for Face-to-Face Courses/Courses end
URL;VALUE=URI:https://www.coffeyville.edu/calendar/8006535/final-exams-for-
 face-to-face-courses-courses-end
DTSTART;VALUE=DATE:20250627
DTEND;VALUE=DATE:20250628
END:VEVENT
END:VCALENDAR
