BEGIN:VCALENDAR
VERSION:2.0
PRODID:SchoolNow
CALSCALE:GREGORIAN
BEGIN:VEVENT
UID:42dc10bc-21f6-11f0-8a2b-0a58a9feac02
DTSTAMP:20250425T165641Z
SUMMARY:Last day to add Online Courses with instructor permission
URL;VALUE=URI:https://www.coffeyville.edu/calendar/8006537/last-day-to-add-
 face-to-face-courses-with-instructor-permission-clone
DTSTART;VALUE=DATE:20250605
DTEND;VALUE=DATE:20250606
END:VEVENT
END:VCALENDAR
