BEGIN:VCALENDAR
VERSION:2.0
PRODID:SchoolNow
CALSCALE:GREGORIAN
BEGIN:VEVENT
UID:83116754-21f6-11f0-9572-0ed6f4100cbf
DTSTAMP:20250425T165829Z
SUMMARY:Last Day to drop Summer Online Courses
URL;VALUE=URI:https://www.coffeyville.edu/calendar/8006540/last-day-to-drop
 -summer-online-courses
DTSTART;VALUE=DATE:20250716
DTEND;VALUE=DATE:20250717
END:VEVENT
END:VCALENDAR
