BEGIN:VCALENDAR
VERSION:2.0
PRODID:SchoolNow
CALSCALE:GREGORIAN
BEGIN:VEVENT
UID:978242d0-21f6-11f0-a743-0a58a9feac02
DTSTAMP:20250425T165903Z
SUMMARY:Summer Online Courses End
URL;VALUE=URI:https://www.coffeyville.edu/calendar/8006542/summer-online-co
 urses-end
DTSTART;VALUE=DATE:20250725
DTEND;VALUE=DATE:20250726
END:VEVENT
END:VCALENDAR
