BEGIN:VCALENDAR
VERSION:2.0
PRODID:SchoolNow
CALSCALE:GREGORIAN
BEGIN:VEVENT
UID:500217c2-2445-11f0-b2cf-0a58a9feac02
DTSTAMP:20250428T152804Z
SUMMARY:Summer Face-to-Face Courses Certification Day
URL;VALUE=URI:https://www.coffeyville.edu/calendar/8026517/summer-face-to-f
 ace-courses-certification-day
DTSTART;VALUE=DATE:20250606
DTEND;VALUE=DATE:20250607
END:VEVENT
END:VCALENDAR
