BEGIN:VCALENDAR
VERSION:2.0
PRODID:SchoolNow
CALSCALE:GREGORIAN
BEGIN:VEVENT
UID:6ef0aad6-2445-11f0-b8ab-0a58a9feac02
DTSTAMP:20250428T152828Z
SUMMARY:Summer Online Courses Certification Day
URL;VALUE=URI:https://www.coffeyville.edu/calendar/8026519/summer-face-to-f
 ace-courses-certification-day-clone
DTSTART;VALUE=DATE:20250611
DTEND;VALUE=DATE:20250612
END:VEVENT
END:VCALENDAR
