BEGIN:VCALENDAR
VERSION:2.0
PRODID:SchoolNow
CALSCALE:GREGORIAN
BEGIN:VEVENT
UID:9822fb6c-34ed-11f0-a178-0e060aa23985
DTSTAMP:20250519T201231Z
SUMMARY:Homecoming Week
URL;VALUE=URI:https://www.coffeyville.edu/calendar/8164114/homecoming-week
DTSTART;VALUE=DATE:20251013
DTEND;VALUE=DATE:20251018
END:VEVENT
END:VCALENDAR
