BEGIN:VCALENDAR
VERSION:2.0
PRODID:SchoolNow
CALSCALE:GREGORIAN
BEGIN:VEVENT
UID:3316e718-3cd3-11f0-a357-0a58a9feac02
DTSTAMP:20250603T155850Z
SUMMARY:Campus Closed
URL;VALUE=URI:https://www.coffeyville.edu/calendar/8222308/no-school
DTSTART;VALUE=DATE:20250703
DTEND;VALUE=DATE:20250704
END:VEVENT
END:VCALENDAR
