BEGIN:VCALENDAR
VERSION:2.0
PRODID:SchoolNow
CALSCALE:GREGORIAN
BEGIN:VEVENT
UID:510afa1a-4c65-11f0-9940-0a58a9feac02
DTSTAMP:20250619T205109Z
SUMMARY:Raven's Rising Welcome Weekend
LOCATION:CCC
URL;VALUE=URI:https://www.coffeyville.edu/calendar/8324338/ravens-rising-we
 lcome-weekend
DTSTART;VALUE=DATE:20250815
DTEND;VALUE=DATE:20250818
END:VEVENT
END:VCALENDAR
