BEGIN:VCALENDAR
VERSION:2.0
PRODID:SchoolNow
CALSCALE:GREGORIAN
BEGIN:VEVENT
UID:2392949c-6bf2-11f0-ac7e-0eeef5b311df
DTSTAMP:20250728T203337Z
SUMMARY:Community Engagement Fair
LOCATION:Nellis West
URL;VALUE=URI:https://www.coffeyville.edu/calendar/8452915/community-engage
 ment-fair
DTSTART:20250820T150000Z
DTEND:20250820T170000Z
ATTACH;FILENAME=;FMTTYPE=application/octet-stream:
END:VEVENT
END:VCALENDAR
