BEGIN:VCALENDAR
VERSION:2.0
PRODID:SchoolNow
CALSCALE:GREGORIAN
BEGIN:VEVENT
UID:09772336-79e7-11f0-92a1-02b6ac64bda5
DTSTAMP:20250828T212157Z
SUMMARY:PTK Sun Day
LOCATION:Grass Field next to the student union
URL;VALUE=URI:https://www.coffeyville.edu/calendar/8510975/ptk-sun-day
DTSTART:20250921T180000Z
DTEND:20250921T190000Z
END:VEVENT
END:VCALENDAR
