BEGIN:VCALENDAR
VERSION:2.0
PRODID:SchoolNow
CALSCALE:GREGORIAN
BEGIN:VEVENT
UID:a8994a40-7d0a-11f0-a108-02eb822844bf
DTSTAMP:20250819T214435Z
SUMMARY:Campus Engagement and Resource Ice Cream Fair
LOCATION:Student Union
URL;VALUE=URI:https://www.coffeyville.edu/calendar/8521488/campus-engagemen
 t-and-resource-ice-cream-fair
DTSTART:20250821T223000Z
DTEND:20250822T000000Z
END:VEVENT
END:VCALENDAR
