BEGIN:VCALENDAR
VERSION:2.0
PRODID:SchoolNow
CALSCALE:GREGORIAN
BEGIN:VEVENT
UID:3ce01568-7d46-11f0-b205-022e31aca1f7
DTSTAMP:20250819T214827Z
SUMMARY:Suicide Prevention Month Event
LOCATION:Spencer Rounds Theatre
URL;VALUE=URI:https://www.coffeyville.edu/calendar/8523069/suicide-preventi
 on-month-event
DTSTART:20250924T223000Z
DTEND:20250924T233000Z
ATTACH;FILENAME=nami_south_central_kansas.jpg;FMTTYPE=image/jpeg:https://ca
 mpussuite-storage.s3.amazonaws.com/prod/33891/6364a13c-3a18-11e6-b537-2200
 0bd8490f/2995570/d3682058-7d45-11f0-8389-0a58a9feac02/file/nami_south_cent
 ral_kansas.jpg
END:VEVENT
END:VCALENDAR
