BEGIN:VCALENDAR
VERSION:2.0
PRODID:SchoolNow
CALSCALE:GREGORIAN
BEGIN:VEVENT
UID:0dadf822-844a-11f0-8491-022e31aca1f7
DTSTAMP:20251103T223235Z
SUMMARY:2025 Senior Day
URL;VALUE=URI:https://www.coffeyville.edu/calendar/8555449/2025-senior-day
DTSTART:20251113T143000Z
DTEND:20251113T173000Z
END:VEVENT
END:VCALENDAR
