BEGIN:VCALENDAR
VERSION:2.0
PRODID:SchoolNow
CALSCALE:GREGORIAN
BEGIN:VEVENT
UID:c3cedf50-84ee-11f0-89a6-0a58a9feac02
DTSTAMP:20250829T154227Z
SUMMARY:Beginner Square Dancing Lessons
LOCATION:Nellis Hall Room 100 (Choir Room)
URL;VALUE=URI:https://www.coffeyville.edu/calendar/8558411/beginner-square-
 dancing-lessons-clone-clone-clone-clone
DTSTART:20251030T230000Z
DTEND:20251031T010000Z
ATTACH;FILENAME=image (2).png;FMTTYPE=image/png:https://campussuite-storage
 .s3.amazonaws.com/prod/33891/6364a13c-3a18-11e6-b537-22000bd8490f/3001274/
 591f87a0-84ed-11f0-b7ce-0affc1bf85c7/file/image (2).png
END:VEVENT
END:VCALENDAR
