BEGIN:VCALENDAR
VERSION:2.0
PRODID:SchoolNow
CALSCALE:GREGORIAN
BEGIN:VEVENT
UID:35501294-88fe-11f0-aaf8-0affe53e8789
DTSTAMP:20250903T194304Z
SUMMARY:Red Cross Blood Drive
LOCATION:Gym Hallway at Nellis Hall
URL;VALUE=URI:https://www.coffeyville.edu/calendar/8575558/red-cross-blood-
 drive
DTSTART:20250923T143000Z
DTEND:20250923T203000Z
ATTACH;FILENAME=american_red_cross_blood_drive_2025.pdf;FMTTYPE=application
 /pdf:https://campussuite-storage.s3.amazonaws.com/prod/33891/6364a13c-3a18
 -11e6-b537-22000bd8490f/3002896/0a005220-88fe-11f0-b4a1-0a58a9feac02/file/
 american_red_cross_blood_drive_2025.pdf
END:VEVENT
END:VCALENDAR
