BEGIN:VCALENDAR
VERSION:2.0
PRODID:SchoolNow
CALSCALE:GREGORIAN
BEGIN:VEVENT
UID:b1ad07cc-9e41-11f0-b4a9-0affdb44ff1b
DTSTAMP:20250930T210903Z
SUMMARY:Raven Holiday
URL;VALUE=URI:https://www.coffeyville.edu/calendar/8681600/raven-holiday
DTSTART:20251121T230000Z
DTEND:20251122T020000Z
END:VEVENT
END:VCALENDAR
