BEGIN:VCALENDAR
VERSION:2.0
PRODID:SchoolNow
CALSCALE:GREGORIAN
BEGIN:VEVENT
UID:a76c8898-9e44-11f0-9e5a-0e364e4f8e79
DTSTAMP:20251007T162341Z
SUMMARY:Red Raven Homecoming Haunt
URL;VALUE=URI:https://www.coffeyville.edu/calendar/8681602/trunk-or-treat
DTSTART:20251016T223000Z
DTEND:20251017T003000Z
ATTACH;FILENAME=Trunk or Treat 2025 social.png;FMTTYPE=image/png:https://ca
 mpussuite-storage.s3.amazonaws.com/prod/33891/6364a13c-3a18-11e6-b537-2200
 0bd8490f/3018300/f37db964-a399-11f0-8883-0affdb44ff1b/file/Trunk or Treat 
 2025 social.png
END:VEVENT
END:VCALENDAR
