BEGIN:VCALENDAR
VERSION:2.0
PRODID:SchoolNow
CALSCALE:GREGORIAN
BEGIN:VEVENT
UID:36cad04c-9faa-11f0-95a6-0a58a9feac02
DTSTAMP:20251014T164647Z
SUMMARY:Distinguished Alumni and Hall of Fame Dinner
LOCATION:Nellis Hall
URL;VALUE=URI:https://www.coffeyville.edu/calendar/8687542/distinguished-al
 umni-and-hall-of-fame-dinner
DTSTART:20251017T230000Z
DTEND:20251018T010000Z
END:VEVENT
END:VCALENDAR
